BEGIN:VCALENDAR
VERSION:2.0
PRODID:-//Garden Photographic Society - ECPv6.15.20//NONSGML v1.0//EN
CALSCALE:GREGORIAN
METHOD:PUBLISH
X-ORIGINAL-URL:https://gardenphoto.org
X-WR-CALDESC:Events for Garden Photographic Society
REFRESH-INTERVAL;VALUE=DURATION:PT1H
X-Robots-Tag:noindex
X-PUBLISHED-TTL:PT1H
BEGIN:VTIMEZONE
TZID:America/Chicago
BEGIN:DAYLIGHT
TZOFFSETFROM:-0600
TZOFFSETTO:-0500
TZNAME:CDT
DTSTART:20230312T080000
END:DAYLIGHT
BEGIN:STANDARD
TZOFFSETFROM:-0500
TZOFFSETTO:-0600
TZNAME:CST
DTSTART:20231105T070000
END:STANDARD
BEGIN:DAYLIGHT
TZOFFSETFROM:-0600
TZOFFSETTO:-0500
TZNAME:CDT
DTSTART:20240310T080000
END:DAYLIGHT
BEGIN:STANDARD
TZOFFSETFROM:-0500
TZOFFSETTO:-0600
TZNAME:CST
DTSTART:20241103T070000
END:STANDARD
BEGIN:DAYLIGHT
TZOFFSETFROM:-0600
TZOFFSETTO:-0500
TZNAME:CDT
DTSTART:20250309T080000
END:DAYLIGHT
BEGIN:STANDARD
TZOFFSETFROM:-0500
TZOFFSETTO:-0600
TZNAME:CST
DTSTART:20251102T070000
END:STANDARD
END:VTIMEZONE
BEGIN:VEVENT
DTSTART;TZID=America/Chicago:20240705T180000
DTEND;TZID=America/Chicago:20240705T210000
DTSTAMP:20260421T080900
CREATED:20240611T164945Z
LAST-MODIFIED:20240627T032747Z
UID:5406-1720202400-1720213200@gardenphoto.org
SUMMARY:Botanic Garden Golden Hour Photowalk
DESCRIPTION:Join your fellow club members for a Golden Hour Photowalk at the Garden on Friday\, July 5th from 6-9PM. We’ll meet at the Heritage Garden (the Lilly Pond) at 6PM and break up into smaller groups to explore areas like The Japanese Garden\, The Waterfall\, Evening Island\, the Fruit & Vegetable Garden\, or wherever you want! We’ll reconvene at 8:15 at The Crescent to shoot the sunset.
URL:https://gardenphoto.org/event/botanic-garden-golden-hour-photowalk/
LOCATION:The Heritage Garden\, CBG\, IL\, United States
END:VEVENT
END:VCALENDAR