BEGIN:VCALENDAR
VERSION:2.0
PRODID:-//Garden Photographic Society - ECPv6.15.20//NONSGML v1.0//EN
CALSCALE:GREGORIAN
METHOD:PUBLISH
X-WR-CALNAME:Garden Photographic Society
X-ORIGINAL-URL:https://gardenphoto.org
X-WR-CALDESC:Events for Garden Photographic Society
REFRESH-INTERVAL;VALUE=DURATION:PT1H
X-Robots-Tag:noindex
X-PUBLISHED-TTL:PT1H
BEGIN:VTIMEZONE
TZID:America/Chicago
BEGIN:DAYLIGHT
TZOFFSETFROM:-0600
TZOFFSETTO:-0500
TZNAME:CDT
DTSTART:20230312T080000
END:DAYLIGHT
BEGIN:STANDARD
TZOFFSETFROM:-0500
TZOFFSETTO:-0600
TZNAME:CST
DTSTART:20231105T070000
END:STANDARD
BEGIN:DAYLIGHT
TZOFFSETFROM:-0600
TZOFFSETTO:-0500
TZNAME:CDT
DTSTART:20240310T080000
END:DAYLIGHT
BEGIN:STANDARD
TZOFFSETFROM:-0500
TZOFFSETTO:-0600
TZNAME:CST
DTSTART:20241103T070000
END:STANDARD
BEGIN:DAYLIGHT
TZOFFSETFROM:-0600
TZOFFSETTO:-0500
TZNAME:CDT
DTSTART:20250309T080000
END:DAYLIGHT
BEGIN:STANDARD
TZOFFSETFROM:-0500
TZOFFSETTO:-0600
TZNAME:CST
DTSTART:20251102T070000
END:STANDARD
END:VTIMEZONE
BEGIN:VEVENT
DTSTART;TZID=America/Chicago:20241107T190000
DTEND;TZID=America/Chicago:20241107T210000
DTSTAMP:20260421T033807
CREATED:20241013T142813Z
LAST-MODIFIED:20241024T192636Z
UID:5473-1731006000-1731013200@gardenphoto.org
SUMMARY:November Zoom Club Meeting/Competition #2
DESCRIPTION:November 7th\, 2024\, 7PM: Zoom Club Meeting/Competition #2\n \nJoin Zoom Meeting\nhttps://us06web.zoom.us/j/87937082362
URL:https://gardenphoto.org/event/november-7th-2024-7pm-zoom-club-meeting-competition-2/
LOCATION:Zoom
END:VEVENT
END:VCALENDAR