BEGIN:VCALENDAR
VERSION:2.0
PRODID:-//Garden Photographic Society - ECPv6.15.20//NONSGML v1.0//EN
CALSCALE:GREGORIAN
METHOD:PUBLISH
X-WR-CALNAME:Garden Photographic Society
X-ORIGINAL-URL:https://gardenphoto.org
X-WR-CALDESC:Events for Garden Photographic Society
REFRESH-INTERVAL;VALUE=DURATION:PT1H
X-Robots-Tag:noindex
X-PUBLISHED-TTL:PT1H
BEGIN:VTIMEZONE
TZID:America/Chicago
BEGIN:DAYLIGHT
TZOFFSETFROM:-0600
TZOFFSETTO:-0500
TZNAME:CDT
DTSTART:20240310T080000
END:DAYLIGHT
BEGIN:STANDARD
TZOFFSETFROM:-0500
TZOFFSETTO:-0600
TZNAME:CST
DTSTART:20241103T070000
END:STANDARD
BEGIN:DAYLIGHT
TZOFFSETFROM:-0600
TZOFFSETTO:-0500
TZNAME:CDT
DTSTART:20250309T080000
END:DAYLIGHT
BEGIN:STANDARD
TZOFFSETFROM:-0500
TZOFFSETTO:-0600
TZNAME:CST
DTSTART:20251102T070000
END:STANDARD
BEGIN:DAYLIGHT
TZOFFSETFROM:-0600
TZOFFSETTO:-0500
TZNAME:CDT
DTSTART:20260308T080000
END:DAYLIGHT
BEGIN:STANDARD
TZOFFSETFROM:-0500
TZOFFSETTO:-0600
TZNAME:CST
DTSTART:20261101T070000
END:STANDARD
END:VTIMEZONE
BEGIN:VEVENT
DTSTART;TZID=America/Chicago:20250306T190000
DTEND;TZID=America/Chicago:20250306T210000
DTSTAMP:20260421T171131
CREATED:20250219T215511Z
LAST-MODIFIED:20250219T215535Z
UID:5562-1741287600-1741294800@gardenphoto.org
SUMMARY:March Zoom Club Meeting/Competition #5
DESCRIPTION:March 6th\, 2025\, 7PM: Zoom Club Meeting/Competition #5 (Image submissions are OPEN until March 5th Midnite). \nSpecial Theme: “Home Sweet Home”. Notice the DIFFERENT URL to enter your images: https://www.caccaphoto.org/411ClientLogin.html \nJoin Zoom Meeting\nhttps://us06web.zoom.us/j/89187898502
URL:https://gardenphoto.org/event/zoom-club-meeting-competition-5-2/
LOCATION:Zoom
END:VEVENT
END:VCALENDAR