BEGIN:VCALENDAR
VERSION:2.0
PRODID:-//Garden Photographic Society - ECPv6.15.20//NONSGML v1.0//EN
CALSCALE:GREGORIAN
METHOD:PUBLISH
X-WR-CALNAME:Garden Photographic Society
X-ORIGINAL-URL:https://gardenphoto.org
X-WR-CALDESC:Events for Garden Photographic Society
REFRESH-INTERVAL;VALUE=DURATION:PT1H
X-Robots-Tag:noindex
X-PUBLISHED-TTL:PT1H
BEGIN:VTIMEZONE
TZID:America/Chicago
BEGIN:DAYLIGHT
TZOFFSETFROM:-0600
TZOFFSETTO:-0500
TZNAME:CDT
DTSTART:20210314T080000
END:DAYLIGHT
BEGIN:STANDARD
TZOFFSETFROM:-0500
TZOFFSETTO:-0600
TZNAME:CST
DTSTART:20211107T070000
END:STANDARD
BEGIN:DAYLIGHT
TZOFFSETFROM:-0600
TZOFFSETTO:-0500
TZNAME:CDT
DTSTART:20220313T080000
END:DAYLIGHT
BEGIN:STANDARD
TZOFFSETFROM:-0500
TZOFFSETTO:-0600
TZNAME:CST
DTSTART:20221106T070000
END:STANDARD
BEGIN:DAYLIGHT
TZOFFSETFROM:-0600
TZOFFSETTO:-0500
TZNAME:CDT
DTSTART:20230312T080000
END:DAYLIGHT
BEGIN:STANDARD
TZOFFSETFROM:-0500
TZOFFSETTO:-0600
TZNAME:CST
DTSTART:20231105T070000
END:STANDARD
BEGIN:DAYLIGHT
TZOFFSETFROM:-0600
TZOFFSETTO:-0500
TZNAME:CDT
DTSTART:20240310T080000
END:DAYLIGHT
BEGIN:STANDARD
TZOFFSETFROM:-0500
TZOFFSETTO:-0600
TZNAME:CST
DTSTART:20241103T070000
END:STANDARD
BEGIN:DAYLIGHT
TZOFFSETFROM:-0600
TZOFFSETTO:-0500
TZNAME:CDT
DTSTART:20250309T080000
END:DAYLIGHT
BEGIN:STANDARD
TZOFFSETFROM:-0500
TZOFFSETTO:-0600
TZNAME:CST
DTSTART:20251102T070000
END:STANDARD
END:VTIMEZONE
BEGIN:VEVENT
DTSTART;TZID=America/Chicago:20240516T190000
DTEND;TZID=America/Chicago:20240516T203000
DTSTAMP:20260421T114007
CREATED:20240411T144002Z
LAST-MODIFIED:20240411T144002Z
UID:5380-1715886000-1715891400@gardenphoto.org
SUMMARY:Zoom Program: John Gerlach “Photographing the Landscape”
DESCRIPTION:Learn the photo skills for shooting pro-quality landscape  images easily and consistently.  Exposure using the highlight alert\, techniques for  producing super sharp images\, composition\, subject selection\, in-camera HDR\, adding LED and flash lighting to the image\, and the incredible power of focus stacking are carefully explained.\n\nBio: John Gerlach has been a professional nature photographer since 1978.  Hundreds of articles and five books on nature photography John wrote have been published.  John continues to photograph landscapes\, wildlife\, and macro subjects every day and loves to teach photography.  Go to his web site to read his articles and see the workshops that are being offered.  www.gerlachnaturephoto.co \n\nJoin Zoom Meeting\nhttps://us06web.zoom.us/j/87164143033
URL:https://gardenphoto.org/event/zoom-program-john-gerlach-photographing-the-landscape/
LOCATION:Zoom
END:VEVENT
BEGIN:VEVENT
DTSTART;TZID=America/Chicago:20240404T190000
DTEND;TZID=America/Chicago:20240404T210000
DTSTAMP:20260421T114007
CREATED:20231128T222449Z
LAST-MODIFIED:20231128T222449Z
UID:5318-1712257200-1712264400@gardenphoto.org
SUMMARY:Zoom Club Meeting/Competition #6
DESCRIPTION:Zoom Club Meeting/Competition #6 \nJoin Zoom Meeting\nhttps://us06web.zoom.us/j/87509078458
URL:https://gardenphoto.org/event/zoom-club-meeting-competition-6/
LOCATION:Zoom
END:VEVENT
BEGIN:VEVENT
DTSTART;TZID=America/Chicago:20240321T190000
DTEND;TZID=America/Chicago:20240321T203000
DTSTAMP:20260421T114007
CREATED:20240314T190541Z
LAST-MODIFIED:20240314T190541Z
UID:5357-1711047600-1711053000@gardenphoto.org
SUMMARY:Karen Hirsch-“What I Look For When Making Images”
DESCRIPTION:Zoom Program from Karen Hirsch-“What I Look For When Making Images”\nI will give a little of my own history\, and present some common characteristics found in my work. If there is time\, I will present a taste of some of the bodies of work that I have produced.\n\nKaren I. Hirsch is an award-winning photographer whose photography has been published internationally. From her early days doing black and white documentary photography to her current creations of abstracts\, alterations of reality and mixed media\, she uses recurrent elements that define her work. She will be illustrating the principals behind her imagery with a number of examples. Karen’s images have been exhibited in New York\, Los Angeles\, Colorado Springs\, Palm Beach as well as in Chicago. She has received art grants from the Illinois Arts Council and from the Chicago Department of Cultural Affairs. She won the grand prize in a Daily News Kodak competition and in an ASMP (American Society of Media Photographers) competition. Karen has photographed corporate moguls including Jeff Bezos and Richard Branson\, Olympic athletes\, iconic musicians\, movie stars and even U.S. presidents. The government of China invited her as a VIP guest to photograph the city of Rizhao. Karen is co-president of Fort Dearborn-Chicago Photo Forum. https://karenihirsch.com/\n\nJoin Zoom Meeting\nhttps://us06web.zoom.us/j/81229158740
URL:https://gardenphoto.org/event/karen-hirsch-what-i-look-for-when-making-images/
LOCATION:Zoom
END:VEVENT
BEGIN:VEVENT
DTSTART;TZID=America/Chicago:20240307T190000
DTEND;TZID=America/Chicago:20240307T210000
DTSTAMP:20260421T114007
CREATED:20231128T222207Z
LAST-MODIFIED:20231128T222207Z
UID:5316-1709838000-1709845200@gardenphoto.org
SUMMARY:Zoom Club Meeting/Competition #5
DESCRIPTION:Zoom Club Meeting/Competition #5 \nJoin Zoom Meeting\nhttps://us06web.zoom.us/j/86045604433
URL:https://gardenphoto.org/event/zoom-club-meeting-competition-5/
LOCATION:Zoom
END:VEVENT
BEGIN:VEVENT
DTSTART;TZID=America/Chicago:20240201T190000
DTEND;TZID=America/Chicago:20240201T203000
DTSTAMP:20260421T114007
CREATED:20231126T171036Z
LAST-MODIFIED:20231126T171036Z
UID:5306-1706814000-1706819400@gardenphoto.org
SUMMARY:Zoom Club Meeting/Competition #4
DESCRIPTION:Topic: Zoom Club Meeting/Competition #4\nTime: Feb 1\, 2024 07:00 PM\nJoin Zoom Meeting\nhttps://us06web.zoom.us/j/86556961878
URL:https://gardenphoto.org/event/zoom-club-meeting-competition-4/
LOCATION:Zoom
END:VEVENT
BEGIN:VEVENT
DTSTART;TZID=America/Chicago:20231207T190000
DTEND;TZID=America/Chicago:20231207T210000
DTSTAMP:20260421T114007
CREATED:20231031T194504Z
LAST-MODIFIED:20231031T194617Z
UID:5287-1701975600-1701982800@gardenphoto.org
SUMMARY:Zoom Club Meeting/Competition #3
DESCRIPTION:Topic: Zoom Club Meeting/Competition #3\nTime: Dec 7\, 2023 07:00 PM Central Time (US and Canada)\nJoin Zoom Meeting\nhttps://us06web.zoom.us/j/84641715589 \n 
URL:https://gardenphoto.org/event/zoom-club-meeting-competition-3/
END:VEVENT
BEGIN:VEVENT
DTSTART;TZID=America/Chicago:20231102T190000
DTEND;TZID=America/Chicago:20231102T210000
DTSTAMP:20260421T114007
CREATED:20230926T205839Z
LAST-MODIFIED:20231031T194529Z
UID:5254-1698951600-1698958800@gardenphoto.org
SUMMARY:Zoom Club Meeting/Competition #2
DESCRIPTION:Topic: Zoom Club Meeting/Competition #2\nTime: Nov 2\, 2023 07:00 PM Central Time (US and Canada)\nJoin Zoom Meeting\nhttps://us06web.zoom.us/j/86858316302 \n 
URL:https://gardenphoto.org/event/zoom-club-meeting-competition-2/
END:VEVENT
BEGIN:VEVENT
DTSTART;TZID=America/Chicago:20231021T130000
DTEND;TZID=America/Chicago:20231021T150000
DTSTAMP:20260421T114007
CREATED:20230921T161444Z
LAST-MODIFIED:20231003T223302Z
UID:5233-1697893200-1697900400@gardenphoto.org
SUMMARY:Fall Color Photowalk: Des Plaines River Trail Hike
DESCRIPTION:Fall Color Photowalk: Des Plaines River Trail hike\, Saturday\, October 21st\, 1PM. \nJoin Edgar Reihl for a photo walk along the Des Plaines River Trail to enjoy the fall colors. We’ll park at Potawatomie Pond just off Dundee Road in Northbrook\, (take the Potawatomi Woods access road just before you get to Wheeling) which is a lovely spot for picture taking. From there\, we’ll walk north along the river for about a mile\, crossing the bridge into Lake County; a spot with vibrant colors. We’ll continue on the trail for about another ½ mile to the second bridge\, passing through beautiful forest areas. You can bring a tripod for picture taking at Potawatomie Pond\, and if you have a lightweight one you can take it along on the hike if you wish. The total distance is about 3 miles.
URL:https://gardenphoto.org/event/fall-photowalk-des-plaines-river-trail-hike/
END:VEVENT
BEGIN:VEVENT
DTSTART;TZID=America/Chicago:20231019T190000
DTEND;TZID=America/Chicago:20231019T203000
DTSTAMP:20260421T114007
CREATED:20230810T154125Z
LAST-MODIFIED:20231004T161438Z
UID:5196-1697742000-1697747400@gardenphoto.org
SUMMARY:Tony Sweet: Personal Space: "Macro to Close-up to Intimate Scenics"
DESCRIPTION:Our Thursday\, October 19\, 2023 @ 7:00 PM Hybrid (Garden & Zoom) program will be from Tony Sweet: Personal Space: “Macro to Close-up to Intimate Scenics”\nAfter becoming a photographer\, I migrated from traditional landscapes and wildlife to macro\, close-up\, and small scenics\, which I found more conducive to interpretation and self expression\, more like having my own personal space.\nWe’ll be focusing on interpretive flower photography\, small scenes\, creative techniques\, special effects\, suggested projects\, and more. It is the intent that the photographer gain a greater sense of self expression and a deeper sense of vision. https://tonysweet.com/ \nLIVE at Chicago Botanic Garden\, Learning Center\, Room 6\, or: \nJoin Zoom Meeting\nhttps://us06web.zoom.us/j/82638079178 \n 
URL:https://gardenphoto.org/event/tony-sweet-personal-space-macro-to-close-up-to-intimate-scenics/
END:VEVENT
BEGIN:VEVENT
DTSTART;TZID=America/Chicago:20231005T190000
DTEND;TZID=America/Chicago:20231005T210000
DTSTAMP:20260421T114007
CREATED:20230926T205319Z
LAST-MODIFIED:20230926T205432Z
UID:5251-1696532400-1696539600@gardenphoto.org
SUMMARY:Zoom Club Meeting/Competition #1
DESCRIPTION:Competition #1/First Club Meeting of the season is Oct. 5th on Zoom \nJoin Zoom Meeting\nhttps://us06web.zoom.us/j/89235701879 \n  \n 
URL:https://gardenphoto.org/event/competition-1-first-club-meeting/
END:VEVENT
BEGIN:VEVENT
DTSTART;TZID=America/Chicago:20230921T190000
DTEND;TZID=America/Chicago:20230921T203000
DTSTAMP:20260421T114007
CREATED:20230810T154006Z
LAST-MODIFIED:20230810T154006Z
UID:5193-1695322800-1695328200@gardenphoto.org
SUMMARY:JP Stones: "Storytelling for Photographers"
DESCRIPTION:Our Thursday\, September 21\, 2023 @ 7:00 PM Hybrid (Garden\, Regenstein Ctr\, Pullman Room) & Zoom program will be from JP Stones: “Storytelling for Photographers.”\nStorytelling is powerful. It’s also confusing. How can one photo tell a whole story? In this program\, we look at how to adapt a story for photography. We then discuss how that story can help you pose your models and create an engaging composition that will draw a viewer into your photo. Storytelling in photography has a fairly big limitation. A story occurs through time\, but a photo is just this small slice of time. So\, can a photo actually tell a story? And if not\, then what is Narrative Photography? https://jpstonesphotography.com/\n \nJoin Zoom Meeting\nhttps://us06web.zoom.us/j/83538585629 \n\n\n\n\n 
URL:https://gardenphoto.org/event/jp-stones-storytelling-for-photographers/
LOCATION:Hybrid
END:VEVENT
BEGIN:VEVENT
DTSTART;TZID=America/Chicago:20230727T093000
DTEND;TZID=America/Chicago:20230727T113000
DTSTAMP:20260421T114007
CREATED:20230705T003533Z
LAST-MODIFIED:20230726T164016Z
UID:5167-1690450200-1690457400@gardenphoto.org
SUMMARY:Brookfield Zoo Photowalk
DESCRIPTION:Join us in our Garden Summer Photowalk\, to The Brookfield Zoo (3300 Golf Rd\, Brookfield\, IL). Meet Barbara Dunn at the entrance to the South Gate at 10AM for a 10-12Noon Photowalk! Click here to purchase tickets to the Zoo beforehand: https://www.czs.org/OnlineTicketing ($30 General/$25 Seniors). Of course\, you can stay as long as you like! \nPlease RSVP to Barbara (bdunn23@sbcglobal.net) so that she knows how many are coming. Thanks to Barbara for hosting us! See you there!
URL:https://gardenphoto.org/event/brookfield-zoo-photowalk/
LOCATION:Brookfield Zoo\, 3300 Golf Rd\, Brookfield\, IL\, United States
END:VEVENT
BEGIN:VEVENT
DTSTART;TZID=America/Chicago:20230504T190000
DTEND;TZID=America/Chicago:20230504T210000
DTSTAMP:20260421T114007
CREATED:20221118T155212Z
LAST-MODIFIED:20230420T194322Z
UID:5053-1683226800-1683234000@gardenphoto.org
SUMMARY:LIVE & ZOOM Garden Club Meeting/Competition #6
DESCRIPTION:Topic: GPS Club Meeting/Competition #6\nChicago Botanic Garden (Regenstein Ctr-Pullman Room) & Zoom (Link below)\nTime: May 4\, 2023 07:00 PM\nJoin Zoom Meeting\nhttps://us06web.zoom.us/j/83542141897
URL:https://gardenphoto.org/event/online-garden-club-meeting-competition-6/
LOCATION:Zoom
END:VEVENT
BEGIN:VEVENT
DTSTART;TZID=America/Chicago:20230420T190000
DTEND;TZID=America/Chicago:20230420T203000
DTSTAMP:20260421T114007
CREATED:20230228T215505Z
LAST-MODIFIED:20230228T220058Z
UID:5093-1682017200-1682022600@gardenphoto.org
SUMMARY:Kathleen Reeder-“Post Processing Wildlife Images”
DESCRIPTION:About this webinar: The primary objective of post processing is to maximize the impact of what you saw or felt in that defining moment when you pressed the shutter. The changes and improvements you choose to make to a photo are largely a personal choice\, but there are basic changes to keep in mind that can increase a wildlife photo’s impact. In addition\, if you shoot in RAW format\, photos can look great on the camera’s LCD screen\, but most require post processing to be a “finished image”\, even when you do everything right in the camera. Kathleen Reeder will present the post processing considerations and steps to maximize the impact of your wildlife photos. \nTopic: GPS Program: Kathleen Reeder-“Post Processing Wildlife Images”\nTime: Apr 20\, 2023 07:00 PM Central Time (US and Canada)\nJoin Zoom Meeting\nhttps://us06web.zoom.us/j/86808403467 \n 
URL:https://gardenphoto.org/event/kathleen-reeder-post-processing-wildlife-images/
LOCATION:Zoom
END:VEVENT
BEGIN:VEVENT
DTSTART;TZID=America/Chicago:20230406T190000
DTEND;TZID=America/Chicago:20230406T210000
DTSTAMP:20260421T114007
CREATED:20221118T154835Z
LAST-MODIFIED:20230114T160201Z
UID:5051-1680807600-1680814800@gardenphoto.org
SUMMARY:Online Garden Club Meeting/Competition #5
DESCRIPTION:Topic: Club Meeting/Competition #5\nTime: Apr 6\, 2023 07:00 PM Central Time (US and Canada)\nhttps://us06web.zoom.us/j/82097304267
URL:https://gardenphoto.org/event/online-garden-club-meeting-competition-5/
LOCATION:Zoom
END:VEVENT
BEGIN:VEVENT
DTSTART;TZID=America/Chicago:20230302T190000
DTEND;TZID=America/Chicago:20230302T210000
DTSTAMP:20260421T114007
CREATED:20221118T154528Z
LAST-MODIFIED:20230114T155730Z
UID:5049-1677783600-1677790800@gardenphoto.org
SUMMARY:Online Garden Club Meeting/Competition #4
DESCRIPTION:Topic: Club Meeting/Competition #4\nTime: Mar 2\, 2023 07:00 PM Central Time (US and Canada)\nJoin Zoom Meeting\nhttps://us06web.zoom.us/j/85110195994
URL:https://gardenphoto.org/event/online-garden-club-meeting-competition-4/
LOCATION:Zoom
END:VEVENT
BEGIN:VEVENT
DTSTART;TZID=America/Chicago:20230202T190000
DTEND;TZID=America/Chicago:20230202T210000
DTSTAMP:20260421T114007
CREATED:20221118T152643Z
LAST-MODIFIED:20230114T155502Z
UID:5047-1675364400-1675371600@gardenphoto.org
SUMMARY:Online Garden Club Meeting/Competition #3
DESCRIPTION:Topic: Club Meeting/Competition #3\nTime: Feb 2\, 2023 07:00 PM Central Time (US and Canada)\nJoin Zoom Meeting\nhttps://us06web.zoom.us/j/89887729298 \n 
URL:https://gardenphoto.org/event/online-garden-club-meeting-competition-3/
LOCATION:Zoom
END:VEVENT
BEGIN:VEVENT
DTSTART;TZID=America/Chicago:20230119T190000
DTEND;TZID=America/Chicago:20230119T203000
DTSTAMP:20260421T114007
CREATED:20221223T174114Z
LAST-MODIFIED:20221223T174634Z
UID:5060-1674154800-1674160200@gardenphoto.org
SUMMARY:Hank Erdmann-Abstracting Nature in a Photograph
DESCRIPTION:About this Webinar:\nWhat makes an Abstract? What is an Abstract? These questions and many more are answered in my program on creating abstract images in nature and of natural and other objects. The great thing is that your imagination is the only block in the creative process and nowhere more so than in abstraction. I look at the various meanings of the word\, how it pertains to photography\, and show many of the techniques and much of the equipment I use to make interesting and eye-catching images inspired by nature and more. Hank Erdmann is an artist\, an author\, a professional natural history photographer and photographic educator who resides in Will County\, IL. \nTopic: Hank Erdmann-Abstracting Nature in a Photograph\nTime: Jan 19\, 2023 07:00 PM Central Time (US and Canada)\nJoin Zoom Meeting\nhttps://us06web.zoom.us/j/83407707089
URL:https://gardenphoto.org/event/hank-erdmann-abstracting-nature-in-a-photograph/
LOCATION:Zoom
END:VEVENT
BEGIN:VEVENT
DTSTART;TZID=America/Chicago:20230103T173000
DTEND;TZID=America/Chicago:20230103T180000
DTSTAMP:20260421T114007
CREATED:20221223T180033Z
LAST-MODIFIED:20221223T180033Z
UID:5068-1672767000-1672768800@gardenphoto.org
SUMMARY:Deadline for January Comp. #3 DPI submissions
DESCRIPTION:Deadline for January Competition #3 DPI Submissions is Tuesday\, Jan 3\, 2023 at 6PM.
URL:https://gardenphoto.org/event/deadline-for-january-comp-3-dpi-submissions/
END:VEVENT
BEGIN:VEVENT
DTSTART;TZID=America/Chicago:20221117T190000
DTEND;TZID=America/Chicago:20221117T210000
DTSTAMP:20260421T114007
CREATED:20221004T172835Z
LAST-MODIFIED:20221004T173852Z
UID:5004-1668711600-1668718800@gardenphoto.org
SUMMARY:Online Garden Meeting/DPI Competition #2
DESCRIPTION:DPI uploads for Competition #2\, is TBD\, and ends TBD \nTopic: Online Garden Meeting/DPI Competition #2\nTime: Nov 3\, 2022 07:00 PM Central Time (US and Canada)\nJoin Zoom Meeting\nhttps://us06web.zoom.us/j/88912045865
URL:https://gardenphoto.org/event/online-garden-meeting-dpi-competition-2/
LOCATION:Zoom
END:VEVENT
BEGIN:VEVENT
DTSTART;TZID=America/Chicago:20221115T113000
DTEND;TZID=America/Chicago:20221115T120000
DTSTAMP:20260421T114007
CREATED:20221027T000001Z
LAST-MODIFIED:20221027T000001Z
UID:5025-1668511800-1668513600@gardenphoto.org
SUMMARY:Deadline for Comp. #2 Submissions
DESCRIPTION:Deadline for submissions to Competition #2 is Tuesday\, Nov. 15th at 12 Noon
URL:https://gardenphoto.org/event/deadline-for-comp-2-submissions/
END:VEVENT
BEGIN:VEVENT
DTSTART;TZID=America/Chicago:20221103T190000
DTEND;TZID=America/Chicago:20221103T200000
DTSTAMP:20260421T114007
CREATED:20220820T172753Z
LAST-MODIFIED:20221011T153723Z
UID:4960-1667502000-1667505600@gardenphoto.org
SUMMARY:Zoom Garden Program: John Pedersen-"Wide Angle Photography"
DESCRIPTION:About This Webinar:\nWide Angle Photography: Covering the challenges and tips for using wide angle lenses\, this presentation will cover some of the basic techniques of wide angle photography and how we as photographers can use the wider focal ranges to create more compelling images. \nTopic: GPS Program: John Pedersen\nTime: Nov 3\, 2022 07:00 PM Central Time (US and Canada)\nJoin Zoom Meeting\nhttps://us06web.zoom.us/j/89968439696
URL:https://gardenphoto.org/event/program-tbd-2/
LOCATION:Zoom
END:VEVENT
BEGIN:VEVENT
DTSTART;TZID=America/Chicago:20221020T190000
DTEND;TZID=America/Chicago:20221020T210000
DTSTAMP:20260421T114007
CREATED:20220820T173402Z
LAST-MODIFIED:20220911T215555Z
UID:4963-1666292400-1666299600@gardenphoto.org
SUMMARY:Online Garden Meeting/DPI Competition #1
DESCRIPTION:DPI uploads for Competition #1\, is OPEN\, and ends Oct 18 at Noon \nTopic: Online Garden Meeting/DPI Competition #1\nTime: Oct 20\, 2022 07:00 PM Central Time (US and Canada)\nJoin Zoom Meeting\nhttps://us06web.zoom.us/j/85997851231
URL:https://gardenphoto.org/event/online-garden-meeting-dpi-competition-1/
LOCATION:Zoom
END:VEVENT
BEGIN:VEVENT
DTSTART;TZID=America/Chicago:20221015T170000
DTEND;TZID=America/Chicago:20221015T190000
DTSTAMP:20260421T114007
CREATED:20220920T221311Z
LAST-MODIFIED:20220920T221402Z
UID:4995-1665853200-1665860400@gardenphoto.org
SUMMARY:Bahai Temple Photowalk
DESCRIPTION:Let’s shoot the Bahai Temple from Golden Hour into night on Saturday\, October 15th. Sunset is 6:11PM\, so let’s meet from 5:00-7:00PM at the visitors center. The address of the Bahai Temple is 100 Linden Ave\,\, Wilmette\, IL
URL:https://gardenphoto.org/event/bahai-temple-photowalk/
END:VEVENT
BEGIN:VEVENT
DTSTART;TZID=America/Chicago:20220915T173000
DTEND;TZID=America/Chicago:20220915T193000
DTSTAMP:20260421T114007
CREATED:20220821T152320Z
LAST-MODIFIED:20220821T152320Z
UID:4976-1663263000-1663270200@gardenphoto.org
SUMMARY:Garden Golden Hour Photowalk
DESCRIPTION:Garden Golden Hour Photowalk: Let’s meet at the Heritage Garden at 5:30PM for a “Golden into Blue Hour” photowalk!
URL:https://gardenphoto.org/event/garden-golden-hour-photowalk/
LOCATION:The Heritage Garden\, CBG\, IL\, United States
END:VEVENT
BEGIN:VEVENT
DTSTART;TZID=America/Chicago:20220908T190000
DTEND;TZID=America/Chicago:20220908T203000
DTSTAMP:20260421T114007
CREATED:20220820T172406Z
LAST-MODIFIED:20220821T152600Z
UID:4956-1662663600-1662669000@gardenphoto.org
SUMMARY:Zoom Program-Howard Frank: Post Processing from CR to plugins
DESCRIPTION:Howard Frank: Post Processing from CR to plugins\nAbout This Program: Camera Raw (which is in Lightroom) is also in Photoshop and Photoshop Elements\, and has several new exciting enhancements. Learn my workflow along with several tips and tricks. We will also spend some time on several plugins\, how and when to use them. \nLocation: Join Zoom Meeting: https://us06web.zoom.us/j/83066774584
URL:https://gardenphoto.org/event/howard-frank-post-processing-from-cr-to-plugins/
LOCATION:Pullman Room\, Chicago Botanic Garden
END:VEVENT
BEGIN:VEVENT
DTSTART;TZID=America/Chicago:20220804T173000
DTEND;TZID=America/Chicago:20220804T193000
DTSTAMP:20260421T114007
CREATED:20220202T194904Z
LAST-MODIFIED:20220710T175138Z
UID:4837-1659634200-1659641400@gardenphoto.org
SUMMARY:Club Photo Outing-Morton Arboretum
DESCRIPTION:Aug 4th shoot at Morton Arboretum (Meet in Visitor Center). 4100 Illinois Route 53 in Lisle\, IL  https://mortonarb.org \nEveryone will need to buy an advanced ticket beforehand.
URL:https://gardenphoto.org/event/club-outing-location-tbd/
LOCATION:Morton Arboretum\, Meet in Visitor Center
END:VEVENT
BEGIN:VEVENT
DTSTART;TZID=America/Chicago:20220616T190000
DTEND;TZID=America/Chicago:20220616T203000
DTSTAMP:20260421T114007
CREATED:20220422T204050Z
LAST-MODIFIED:20220422T204050Z
UID:4913-1655406000-1655411400@gardenphoto.org
SUMMARY:GPS Zoom Program-Brent Paull – “Shooting in Yellowstone & Grand Teton National Parks"
DESCRIPTION:About This Webinar:\nTactics\, Techniques\, and Locations to go in Yellowstone and Grand Teton National Parks for the best wildlife photography in North America. https://amwestphoto.com/BrentBio/Brentsbiography.htm \nZoom Link
URL:https://gardenphoto.org/event/gps-zoom-program-brent-paull-shooting-in-yellowstone-grand-teton-national-parks/
LOCATION:Zoom
END:VEVENT
BEGIN:VEVENT
DTSTART;TZID=America/Chicago:20220512T190000
DTEND;TZID=America/Chicago:20220512T203000
DTSTAMP:20260421T114007
CREATED:20220410T165048Z
LAST-MODIFIED:20220410T165149Z
UID:4887-1652382000-1652387400@gardenphoto.org
SUMMARY:Zoom Program: Michael Kirkland – “Long Exposure Photography"
DESCRIPTION:About This Webinar:\nUsing long exposures to add interest and creativity to our image. Creating long exposures night and day for a fraction of a second to minutes. Using filters to create dramatic effects. \nJoin Zoom Meeting\nhttps://us06web.zoom.us/j/88289182339
URL:https://gardenphoto.org/event/zoom-program-michael-kirkland-long-exposure-photography/
LOCATION:Zoom
END:VEVENT
BEGIN:VEVENT
DTSTART;TZID=America/Chicago:20220421T190000
DTEND;TZID=America/Chicago:20220421T203000
DTSTAMP:20260421T114007
CREATED:20220410T164702Z
LAST-MODIFIED:20220410T165309Z
UID:4885-1650567600-1650573000@gardenphoto.org
SUMMARY:Zoom program: Tony Reynes – “Composition"
DESCRIPTION:About This Webinar:\nTony has been teaching composition and postproduction for over 10 years through presentations\, workshops and one-on-one tutoring. His approach is very organic: less about rules and more about how the person behind the camera thinks. There will be tips in his talk that will be relevant from the beginner to the old pro. \nJoin Zoom Meeting\nhttps://us06web.zoom.us/j/82288162575
URL:https://gardenphoto.org/event/zoom-program-tony-reynes-composition/
LOCATION:Zoom
END:VEVENT
END:VCALENDAR