BEGIN:VCALENDAR
VERSION:2.0
PRODID:-//Garden Photographic Society - ECPv6.15.20//NONSGML v1.0//EN
CALSCALE:GREGORIAN
METHOD:PUBLISH
X-ORIGINAL-URL:https://gardenphoto.org
X-WR-CALDESC:Events for Garden Photographic Society
REFRESH-INTERVAL;VALUE=DURATION:PT1H
X-Robots-Tag:noindex
X-PUBLISHED-TTL:PT1H
BEGIN:VTIMEZONE
TZID:America/Chicago
BEGIN:DAYLIGHT
TZOFFSETFROM:-0600
TZOFFSETTO:-0500
TZNAME:CDT
DTSTART:20250309T080000
END:DAYLIGHT
BEGIN:STANDARD
TZOFFSETFROM:-0500
TZOFFSETTO:-0600
TZNAME:CST
DTSTART:20251102T070000
END:STANDARD
BEGIN:DAYLIGHT
TZOFFSETFROM:-0600
TZOFFSETTO:-0500
TZNAME:CDT
DTSTART:20260308T080000
END:DAYLIGHT
BEGIN:STANDARD
TZOFFSETFROM:-0500
TZOFFSETTO:-0600
TZNAME:CST
DTSTART:20261101T070000
END:STANDARD
BEGIN:DAYLIGHT
TZOFFSETFROM:-0600
TZOFFSETTO:-0500
TZNAME:CDT
DTSTART:20270314T080000
END:DAYLIGHT
BEGIN:STANDARD
TZOFFSETFROM:-0500
TZOFFSETTO:-0600
TZNAME:CST
DTSTART:20271107T070000
END:STANDARD
END:VTIMEZONE
BEGIN:VEVENT
DTSTART;TZID=America/Chicago:20260416T190000
DTEND;TZID=America/Chicago:20260416T210000
DTSTAMP:20260421T184256
CREATED:20260206T225645Z
LAST-MODIFIED:20260416T213044Z
UID:5771-1776366000-1776373200@gardenphoto.org
SUMMARY:Live/Zoom Hybrid Program: Nancy Ori: ” The Power of Storytelling
DESCRIPTION:April 16th: 7PM Live/Zoom Hybrid Program at the Garden (Regenstein Center-Pullman Room/Zoom) \n: Nancy Ori: ” The Power of Storytelling: How to create a visual story in a photo essay\, book or single image; portfolio development\, planning and post processing tips; creating titles. \n\nNancy’s Bio:\n\nNancy Ori is a photographer\, author\, and educator whose work and teaching have helped shape the New Jersey art community for decades. She has a BA degree in Fine Arts and an MS degree in Visual Communications. For 25 years\, she worked as a corporate photographer and manager of video and photography services for Ciba-Geigy Pharmaceuticals and now runs her own company. As the founder of the New Jersey Photography Forum and a widely exhibited fine artist\, she brings a deep commitment to visual craft and creative exploration. Nancy teaches hands-on photography and mixed media workshops\, leads international photo tours\, and lectures across the country\, always focusing on clear instruction\, supportive guidance\, and helping artists trust their own vision. Whether she is presenting her work\, mentoring students\, or traveling with a small group of photographers internationally\, her goal is simple: to inspire growth\, confidence\, and a lifelong love of art.
URL:https://gardenphoto.org/event/live-garden-photo-critique-regenstein-center-pullman-room-2/
END:VEVENT
END:VCALENDAR