BEGIN:VCALENDAR
VERSION:2.0
PRODID:-//Garden Photographic Society - ECPv6.15.20//NONSGML v1.0//EN
CALSCALE:GREGORIAN
METHOD:PUBLISH
X-WR-CALNAME:Garden Photographic Society
X-ORIGINAL-URL:https://gardenphoto.org
X-WR-CALDESC:Events for Garden Photographic Society
REFRESH-INTERVAL;VALUE=DURATION:PT1H
X-Robots-Tag:noindex
X-PUBLISHED-TTL:PT1H
BEGIN:VTIMEZONE
TZID:America/Chicago
BEGIN:DAYLIGHT
TZOFFSETFROM:-0600
TZOFFSETTO:-0500
TZNAME:CDT
DTSTART:20200308T080000
END:DAYLIGHT
BEGIN:STANDARD
TZOFFSETFROM:-0500
TZOFFSETTO:-0600
TZNAME:CST
DTSTART:20201101T070000
END:STANDARD
BEGIN:DAYLIGHT
TZOFFSETFROM:-0600
TZOFFSETTO:-0500
TZNAME:CDT
DTSTART:20210314T080000
END:DAYLIGHT
BEGIN:STANDARD
TZOFFSETFROM:-0500
TZOFFSETTO:-0600
TZNAME:CST
DTSTART:20211107T070000
END:STANDARD
BEGIN:DAYLIGHT
TZOFFSETFROM:-0600
TZOFFSETTO:-0500
TZNAME:CDT
DTSTART:20220313T080000
END:DAYLIGHT
BEGIN:STANDARD
TZOFFSETFROM:-0500
TZOFFSETTO:-0600
TZNAME:CST
DTSTART:20221106T070000
END:STANDARD
BEGIN:DAYLIGHT
TZOFFSETFROM:-0600
TZOFFSETTO:-0500
TZNAME:CDT
DTSTART:20230312T080000
END:DAYLIGHT
BEGIN:STANDARD
TZOFFSETFROM:-0500
TZOFFSETTO:-0600
TZNAME:CST
DTSTART:20231105T070000
END:STANDARD
END:VTIMEZONE
BEGIN:VEVENT
DTSTART;TZID=America/Chicago:20220324T190000
DTEND;TZID=America/Chicago:20220324T210000
DTSTAMP:20260421T195442
CREATED:20211203T192613Z
LAST-MODIFIED:20220202T194636Z
UID:4707-1648148400-1648155600@gardenphoto.org
SUMMARY:Zoom Program-Joe Rakoczy – “Infrared Photography”
DESCRIPTION:About This Webinar:\nDelve into a part of the light spectrum you can’t see but your camera’s sensor can to produce captivating images with that certain\, often otherworldly look. Join in to explore the characteristics of infrared light and IR images; equipment and ways you can capture infrared (or simulate its look with gear you already have); and recommended techniques to shoot and create impressive infrared landscape images.\n \nJoin Zoom Meeting\nhttps://us06web.zoom.us/j/83764388846
URL:https://gardenphoto.org/event/zoom-program-tbd/
LOCATION:Zoom
END:VEVENT
BEGIN:VEVENT
DTSTART;TZID=America/Chicago:20220317T190000
DTEND;TZID=America/Chicago:20220317T210000
DTSTAMP:20260421T195442
CREATED:20211203T192017Z
LAST-MODIFIED:20211203T192017Z
UID:4701-1647543600-1647550800@gardenphoto.org
SUMMARY:March DPI Results Club Meeting #5
DESCRIPTION:March DPI Results Club Meeting #5 \nJoin Zoom Meeting\nhttps://us06web.zoom.us/j/84763737121
URL:https://gardenphoto.org/event/march-dpi-results-club-meeting-5/
LOCATION:Zoom
END:VEVENT
BEGIN:VEVENT
DTSTART;TZID=America/Chicago:20220310T190000
DTEND;TZID=America/Chicago:20220310T220000
DTSTAMP:20260421T195442
CREATED:20211203T193149Z
LAST-MODIFIED:20211203T193149Z
UID:4713-1646938800-1646949600@gardenphoto.org
SUMMARY:Pullman Room Print Study Group
DESCRIPTION:Pullman Room Print Study Group-Regenstein Ctr
URL:https://gardenphoto.org/event/pullman-room-print-study-group-3/
LOCATION:Pullman Room\, Chicago Botanic Garden
END:VEVENT
BEGIN:VEVENT
DTSTART;TZID=America/Chicago:20220309T190000
DTEND;TZID=America/Chicago:20220309T210000
DTSTAMP:20260421T195442
CREATED:20211203T191841Z
LAST-MODIFIED:20211203T191841Z
UID:4699-1646852400-1646859600@gardenphoto.org
SUMMARY:Judges Zoom Meeting Comp #5
DESCRIPTION:Judges Zoom Meeting Comp #5 \nJoin Zoom Meeting\nhttps://us06web.zoom.us/j/84735149714
URL:https://gardenphoto.org/event/judges-zoom-meeting-comp-5/
LOCATION:Zoom
END:VEVENT
BEGIN:VEVENT
DTSTART;TZID=America/Chicago:20220307T113000
DTEND;TZID=America/Chicago:20220307T120000
DTSTAMP:20260421T195442
CREATED:20220202T194426Z
LAST-MODIFIED:20220202T194426Z
UID:4831-1646652600-1646654400@gardenphoto.org
SUMMARY:March Competition (#5) Deadline for entries 12 Noon
DESCRIPTION:March Competition (#5) Deadline for entries 12 Noon
URL:https://gardenphoto.org/event/march-competition-5-deadline-for-entries-12-noon/
END:VEVENT
BEGIN:VEVENT
DTSTART;TZID=America/Chicago:20220217T190000
DTEND;TZID=America/Chicago:20220217T210000
DTSTAMP:20260421T195442
CREATED:20211203T191157Z
LAST-MODIFIED:20211203T191157Z
UID:4697-1645124400-1645131600@gardenphoto.org
SUMMARY:February DPI Results Club Meeting #4
DESCRIPTION:February DPI Results Club Meeting #4 \nJoin Zoom Meeting\nhttps://us06web.zoom.us/j/85167562371
URL:https://gardenphoto.org/event/february-dpi-results-club-meeting-4/
LOCATION:Zoom
END:VEVENT
BEGIN:VEVENT
DTSTART;TZID=America/Chicago:20220210T190000
DTEND;TZID=America/Chicago:20220210T220000
DTSTAMP:20260421T195442
CREATED:20211203T193043Z
LAST-MODIFIED:20211203T193043Z
UID:4711-1644519600-1644530400@gardenphoto.org
SUMMARY:Pullman Room Print Study Group
DESCRIPTION:Pullman Room Print Study Group-Regenstein Ctr
URL:https://gardenphoto.org/event/pullman-room-print-study-group-2/
LOCATION:Pullman Room\, Chicago Botanic Garden
END:VEVENT
BEGIN:VEVENT
DTSTART;TZID=America/Chicago:20220209T190000
DTEND;TZID=America/Chicago:20220209T210000
DTSTAMP:20260421T195442
CREATED:20211203T191028Z
LAST-MODIFIED:20211203T191028Z
UID:4695-1644433200-1644440400@gardenphoto.org
SUMMARY:Judges Zoom Meeting Comp #4
DESCRIPTION:Judges Zoom Meeting Comp #4 \nJoin Zoom Meeting\nhttps://us06web.zoom.us/j/84572954250
URL:https://gardenphoto.org/event/judges-zoom-meeting-comp-4/
LOCATION:Zoom
END:VEVENT
BEGIN:VEVENT
DTSTART;TZID=America/Chicago:20220207T113000
DTEND;TZID=America/Chicago:20220207T120000
DTSTAMP:20260421T195442
CREATED:20220107T201426Z
LAST-MODIFIED:20220107T201513Z
UID:4753-1644233400-1644235200@gardenphoto.org
SUMMARY:February Competition (#4) Deadline for entries 12 Noon
DESCRIPTION:12 Noon deadline for submitting entries for the February Competition (#4)
URL:https://gardenphoto.org/event/february-competition-4-deadline-for-entries/
END:VEVENT
BEGIN:VEVENT
DTSTART;TZID=America/Chicago:20220120T190000
DTEND;TZID=America/Chicago:20220120T203000
DTSTAMP:20260421T195442
CREATED:20220114T160430Z
LAST-MODIFIED:20220114T160430Z
UID:4762-1642705200-1642710600@gardenphoto.org
SUMMARY:January Zoom Program-Sheri Sparks – “Seize The Moment”
DESCRIPTION:About This Webinar:\nThis program will look at different photo techniques and three main photography strategies by examining three different vignettes\, “Illinois Beach State Park;” “The Foxes of Winthrop Harbor Marina;” and “Song of the Trees.” \nJoin Zoom Meeting\nhttps://us06web.zoom.us/j/83702940540
URL:https://gardenphoto.org/event/january-zoom-program-sheri-sparks-seize-the-moment/
LOCATION:Zoom
END:VEVENT
BEGIN:VEVENT
DTSTART;TZID=America/Chicago:20220113T190000
DTEND;TZID=America/Chicago:20220113T210000
DTSTAMP:20260421T195442
CREATED:20211203T190802Z
LAST-MODIFIED:20211203T190848Z
UID:4692-1642100400-1642107600@gardenphoto.org
SUMMARY:January DPI Results Club Meeting #3
DESCRIPTION:January DPI Results Club Meeting #3 \nJoin Zoom Meeting\nhttps://us06web.zoom.us/j/86057549427
URL:https://gardenphoto.org/event/january-dpi-results-club-meeting-3/
LOCATION:Zoom
END:VEVENT
BEGIN:VEVENT
DTSTART;TZID=America/Chicago:20220106T190000
DTEND;TZID=America/Chicago:20220106T220000
DTSTAMP:20260421T195442
CREATED:20211203T192825Z
LAST-MODIFIED:20211203T192825Z
UID:4709-1641495600-1641506400@gardenphoto.org
SUMMARY:Pullman Room Print Study Group
DESCRIPTION:Pullman Room Print Study Group-Regenstein Ctr
URL:https://gardenphoto.org/event/pullman-room-print-study-group/
LOCATION:Pullman Room\, Chicago Botanic Garden
END:VEVENT
BEGIN:VEVENT
DTSTART;TZID=America/Chicago:20220105T190000
DTEND;TZID=America/Chicago:20220105T210000
DTSTAMP:20260421T195442
CREATED:20211203T190609Z
LAST-MODIFIED:20211203T190609Z
UID:4690-1641409200-1641416400@gardenphoto.org
SUMMARY:Judges Zoom Meeting Comp #3
DESCRIPTION:Judges Zoom Meeting Comp #3 \nJoin Zoom Meeting\nhttps://us06web.zoom.us/j/82092904232
URL:https://gardenphoto.org/event/judges-zoom-meeting-comp-3/
LOCATION:Zoom
END:VEVENT
BEGIN:VEVENT
DTSTART;TZID=America/Chicago:20211202T190000
DTEND;TZID=America/Chicago:20211202T210000
DTSTAMP:20260421T195442
CREATED:20210819T153222Z
LAST-MODIFIED:20211005T152131Z
UID:4527-1638471600-1638478800@gardenphoto.org
SUMMARY:December Zoom Program -Working with the Develop Module in Lightroom Classic
DESCRIPTION:GPS December Program: Bob Benson – “Working with the Develop Module in Lightroom Classic”. \nAbout This Webinar: Using Lightroom\, examples of image optimization with the Develop Tools will be shown. This is only about using the Develop tools\, and does not cover other aspects of Lightroom\, but is one of the main reasons photographers are drawn to Lightroom Classic. Also\, we’ll cover the new masking features in the latest version of Lightroom Classic. \nJoin Zoom Meeting\nhttps://zoom.us/j/99657363210
URL:https://gardenphoto.org/event/december-program-tbd-zoom/
LOCATION:Zoom
END:VEVENT
BEGIN:VEVENT
DTSTART;VALUE=DATE:20211127
DTEND;VALUE=DATE:20220103
DTSTAMP:20260421T195442
CREATED:20201125T193836Z
LAST-MODIFIED:20210719T203256Z
UID:3898-1637971200-1641167999@gardenphoto.org
SUMMARY:Nature In View Show-Joutras Gallery
DESCRIPTION:Dates: November 27th through January 2nd in the Joutras Gallery (Regenstein Center). \nSee the Chicago Botanic Garden in a new light! In this exhibition\, photographs of the natural world feature the work of Garden Photographic Society members. Their remarkable images capture fleeting moments of beauty—from the morning mist to the first spring bloom. Society members have held their meetings at the Garden for more than 30 years\, appreciating it as a special place to perfect their craft.
URL:https://gardenphoto.org/event/nature-in-view/
LOCATION:Greenhouse Galleries\, Regenstein Center\, Chicago Botanic Garden
END:VEVENT
BEGIN:VEVENT
DTSTART;TZID=America/Chicago:20211123T080000
DTEND;TZID=America/Chicago:20211123T120000
DTSTAMP:20260421T195442
CREATED:20211015T233652Z
LAST-MODIFIED:20211015T233652Z
UID:4654-1637654400-1637668800@gardenphoto.org
SUMMARY:NIV Prints Drop-off
DESCRIPTION:Drop off your NIV Framed prints at the Joutras Gallery greenhouse entrance
URL:https://gardenphoto.org/event/niv-prints-drop-off/
LOCATION:Greenhouse Galleries\, Regenstein Center\, Chicago Botanic Garden
END:VEVENT
BEGIN:VEVENT
DTSTART;TZID=America/Chicago:20211118T190000
DTEND;TZID=America/Chicago:20211118T203000
DTSTAMP:20260421T195442
CREATED:20210824T223143Z
LAST-MODIFIED:20210906T205633Z
UID:4561-1637262000-1637267400@gardenphoto.org
SUMMARY:November Zoom Program -Mike Trahan-"Composition"
DESCRIPTION:About this Webinar: We’ll discuss and show proven composition guidelines. But rather than just show pretty images\, we’ll take snapshot examples and show how they can be changed through those guidelines into much better images. The guidelines will cover every genre of photography with examples from many of them\, including nature\, architecture\, and portraiture. https://www.trahan.photos \nJoin Zoom Meeting\nhttps://us06web.zoom.us/j/88027475777
URL:https://gardenphoto.org/event/november-zoom-program-tbd/
LOCATION:Zoom
END:VEVENT
BEGIN:VEVENT
DTSTART;TZID=America/Chicago:20211111T190000
DTEND;TZID=America/Chicago:20211111T213000
DTSTAMP:20260421T195442
CREATED:20210719T202555Z
LAST-MODIFIED:20210927T200715Z
UID:4503-1636657200-1636666200@gardenphoto.org
SUMMARY:Zoom Club Meeting\, DPI Competition #2
DESCRIPTION:Garden DPI Competition #2 \nJoin Zoom Meeting\nhttps://zoom.us/j/96064867937
URL:https://gardenphoto.org/event/november-program-learning-center-campus-classroom-6/
LOCATION:Zoom
END:VEVENT
BEGIN:VEVENT
DTSTART;TZID=America/Chicago:20211110T190000
DTEND;TZID=America/Chicago:20211110T203000
DTSTAMP:20260421T195442
CREATED:20211103T204318Z
LAST-MODIFIED:20211103T204318Z
UID:4675-1636570800-1636576200@gardenphoto.org
SUMMARY:Judges Meeting Comp #2
DESCRIPTION:
URL:https://gardenphoto.org/event/judges-meeting-comp-2/
LOCATION:Zoom
END:VEVENT
BEGIN:VEVENT
DTSTART;TZID=America/Chicago:20211108T110000
DTEND;TZID=America/Chicago:20211108T120000
DTSTAMP:20260421T195442
CREATED:20210823T142156Z
LAST-MODIFIED:20210823T143238Z
UID:4551-1636369200-1636372800@gardenphoto.org
SUMMARY:DPI Competition #2 Upload Deadline
DESCRIPTION:The upload deadline\, on the 411 Vision Site\, is November 8th\, 12 Noon
URL:https://gardenphoto.org/event/dpi-competition-2-upload-deadline/
END:VEVENT
BEGIN:VEVENT
DTSTART;TZID=America/Chicago:20211104T190000
DTEND;TZID=America/Chicago:20211104T210000
DTSTAMP:20260421T195442
CREATED:20210719T202401Z
LAST-MODIFIED:20210819T152914Z
UID:4500-1636052400-1636059600@gardenphoto.org
SUMMARY:November Print Study Group\, Pullman Rm
DESCRIPTION:Our November Print Study Group\, Pullman Rm. This is NOT a regular club meeting\, but you may attend at your own risk to bring prints for CACCA entry.
URL:https://gardenphoto.org/event/october-competition-night-learning-center-campus-classroom-6/
LOCATION:Pullman Room\, Chicago Botanic Garden
END:VEVENT
BEGIN:VEVENT
DTSTART;TZID=America/Chicago:20211021T190000
DTEND;TZID=America/Chicago:20211021T203000
DTSTAMP:20260421T195442
CREATED:20210824T222902Z
LAST-MODIFIED:20210826T141921Z
UID:4558-1634842800-1634848200@gardenphoto.org
SUMMARY:October Zoom Program-Mike Matthews: "Macro Photography: The Amazing World of Close Up  Photography"
DESCRIPTION:About This Webinar: Exploring this small world can be simply amazing\, seeing detail that is not visible to the naked eye. Join me as we explore the this small but beautiful world of insects and more. Let me show you how you can free yourself from the use of a tripod by using flash. I will also review the best choices for a macro lens\, and how to get tack sharp images every time. Plus\, we will discuss image stacking for incredible high magnification photography greater than one to one. Mike’s passion for nature photography began over forty-five years ago and he has been shooting professionally for twenty years. His images have been published in numerous national publications like Birds and Blooms\, Gulfshore Life\, Bassmaster’s\, and more. Many of his images have also been published by universities for articles relating to specific topics like human/wildlife interaction. Being an avid outdoorsman\, his passion for photographing wildlife is ever present when he is in the field. In addition\, one of Mike’s favorite topics is Herpetology\, (the study of reptiles and amphibians). This is an area that has led Mike to be one of the premier macro photographers in the U.S. He is best known for his macro photography workshops where he brings exotic reptiles and amphibians for participants to photograph. Mike also offers a variety of guided Nature Photography Tours\, Birding Workshops\, Floral workshops\, and Extreme Macro. He has been a Keynote speaker throughout the USA on these topics. https://mikematthewsphotography.com \nJoin Zoom Meeting\nhttps://us06web.zoom.us/j/83675189127
URL:https://gardenphoto.org/event/october-zoom-program-tbd/
LOCATION:Zoom
END:VEVENT
BEGIN:VEVENT
DTSTART;TZID=America/Chicago:20211014T190000
DTEND;TZID=America/Chicago:20211014T210000
DTSTAMP:20260421T195442
CREATED:20210927T200314Z
LAST-MODIFIED:20210927T200314Z
UID:4613-1634238000-1634245200@gardenphoto.org
SUMMARY:Zoom Club Meeting\, DPI Results\, Competition #1
DESCRIPTION:Topic: Zoom DPI Results Club Meeting #1\nTime: Oct 14\, 2021 07:00 PM Central Time (US and Canada) \nJoin Zoom Meeting\nhttps://us06web.zoom.us/j/89866069869
URL:https://gardenphoto.org/event/zoom-club-meeting-dpi-results-competition-1/
LOCATION:Zoom
END:VEVENT
BEGIN:VEVENT
DTSTART;TZID=America/Chicago:20211007T180000
DTEND;TZID=America/Chicago:20211007T203000
DTSTAMP:20260421T195442
CREATED:20210719T202116Z
LAST-MODIFIED:20210930T150551Z
UID:4498-1633629600-1633638600@gardenphoto.org
SUMMARY:October Print Study Group/NIV Prints Returned-Pullman Rm
DESCRIPTION:Our October Print Study Group\, Pullman Rm/NIV Prints Returned. This is NOT a regular club meeting\, but you may attend at your own risk to bring prints for CACCA entry. Also NIV Prints returned 6-7PM.
URL:https://gardenphoto.org/event/october-program-pullman-rm/
LOCATION:Pullman Room\, Chicago Botanic Garden
END:VEVENT
BEGIN:VEVENT
DTSTART;TZID=America/Chicago:20210929T190000
DTEND;TZID=America/Chicago:20210929T200000
DTSTAMP:20260421T195442
CREATED:20210819T150833Z
LAST-MODIFIED:20210819T150833Z
UID:4519-1632942000-1632945600@gardenphoto.org
SUMMARY:Bring Nature In View prints-Pullman Room\, Regenstein Ctr
DESCRIPTION:Bring your NIV prints to hand off to the NIV Prints Committee\, Barbara\, Laura & Jill.
URL:https://gardenphoto.org/event/bring-nature-in-view-prints-pullman-room-regenstein-ctr/
END:VEVENT
BEGIN:VEVENT
DTSTART;TZID=America/Chicago:20210923T190000
DTEND;TZID=America/Chicago:20210923T220000
DTSTAMP:20260421T195442
CREATED:20210719T201646Z
LAST-MODIFIED:20210927T195948Z
UID:4493-1632423600-1632434400@gardenphoto.org
SUMMARY:Garden Club Meeting
DESCRIPTION:Join Zoom Meeting\nhttps://zoom.us/j/97063506258 \n 
URL:https://gardenphoto.org/event/september-program-pullman-rm/
LOCATION:Pullman Room\, Chicago Botanic Garden
END:VEVENT
BEGIN:VEVENT
DTSTART;TZID=America/Chicago:20210920T113000
DTEND;TZID=America/Chicago:20210920T120000
DTSTAMP:20260421T195442
CREATED:20210823T002545Z
LAST-MODIFIED:20210823T002545Z
UID:4549-1632137400-1632139200@gardenphoto.org
SUMMARY:DPI Competition #1 Upload Deadline
DESCRIPTION:The upload deadline\, on the 411 Vision Site\, is September 20\, 12 Noon
URL:https://gardenphoto.org/event/dpi-competition-1-upload-deadline/
END:VEVENT
BEGIN:VEVENT
DTSTART;TZID=America/Chicago:20210902T190000
DTEND;TZID=America/Chicago:20210902T210000
DTSTAMP:20260421T195442
CREATED:20210712T155519Z
LAST-MODIFIED:20210824T223018Z
UID:4482-1630609200-1630616400@gardenphoto.org
SUMMARY:September Zoom Program-Roger Mattingly\, "Flashy Flowers"
DESCRIPTION:“Flashy Flowers: Off Camera Flash at the Botanic Garden”\, from Roger Mattingly \nLearn to use iTTL control with a 3 foot coiled cable to shoot flowers no matter what the weather. Using the flash correctly will allow you to chose your f stop for max depth of field\, stop motion\, open up shadows and give you the rich saturation flowers deserve. Inspired by the work of Anne Belmont I decided to use what I had on hand to capture the stunning variety of beautiful flowers. Drawing on my 6 years as the principle photographer for the Garden in the late 80’s and early 90’s learn what to shoot and when to shoot it during the ever changing panorama of the unique flower resources of the Chicago Botanic Garden. Presentation includes 120 shots from 3 years of shooting. http://www.digitalroger.com. \nJoin Zoom Meeting\nhttps://zoom.us/j/96972193329 \n 
URL:https://gardenphoto.org/event/getting-to-know-you-first-program/
LOCATION:Linnaeus Room\, Chicago Botanic Garden
END:VEVENT
BEGIN:VEVENT
DTSTART;TZID=America/Chicago:20210819T180000
DTEND;TZID=America/Chicago:20210819T200000
DTSTAMP:20260421T195442
CREATED:20210502T170015Z
LAST-MODIFIED:20210520T193024Z
UID:4402-1629396000-1629403200@gardenphoto.org
SUMMARY:18th Street Bridge Shoot
DESCRIPTION:You can get to the 18th St. Bridge either from Lake Shore Drive or I90\, both have exits there. If you are traveling Westbound on 18th St. the first street past the bridge is Stewart Ave Northbound. There is plenty of free parking there\, and this is the closest parking spot. If anyone wishes\, they can also park at Ping Tom Park which is just below the bridge. \nWe will meet ON THE BRIDGE at 6:00PM. Bring a tripod and both wide (24-70) and tele (100-400) zooms or primes.
URL:https://gardenphoto.org/event/18th-street-bridge-shoot/
LOCATION:18th Street Bridge
END:VEVENT
BEGIN:VEVENT
DTSTART;TZID=America/Chicago:20210714T180000
DTEND;TZID=America/Chicago:20210715T200000
DTSTAMP:20260421T195442
CREATED:20210502T165456Z
LAST-MODIFIED:20210714T162853Z
UID:4397-1626285600-1626379200@gardenphoto.org
SUMMARY:Botanic Garden Shoot
DESCRIPTION:Meet at the Botanic Garden at 6PM for a 2-hour shoot. We’ll meet at The Heritage Garden (past the Visitor Center\, left towards the lily pond)\, and improvise! We can finish at The Esplanade (facing the lake) for some sunset HDR shots!
URL:https://gardenphoto.org/event/club-garden-shoot/
LOCATION:The Crescent\, CBG
END:VEVENT
END:VCALENDAR