BEGIN:VCALENDAR
VERSION:2.0
PRODID:-//Garden Photographic Society - ECPv6.15.20//NONSGML v1.0//EN
CALSCALE:GREGORIAN
METHOD:PUBLISH
X-WR-CALNAME:Garden Photographic Society
X-ORIGINAL-URL:https://gardenphoto.org
X-WR-CALDESC:Events for Garden Photographic Society
REFRESH-INTERVAL;VALUE=DURATION:PT1H
X-Robots-Tag:noindex
X-PUBLISHED-TTL:PT1H
BEGIN:VTIMEZONE
TZID:America/Chicago
BEGIN:DAYLIGHT
TZOFFSETFROM:-0600
TZOFFSETTO:-0500
TZNAME:CDT
DTSTART:20190310T080000
END:DAYLIGHT
BEGIN:STANDARD
TZOFFSETFROM:-0500
TZOFFSETTO:-0600
TZNAME:CST
DTSTART:20191103T070000
END:STANDARD
BEGIN:DAYLIGHT
TZOFFSETFROM:-0600
TZOFFSETTO:-0500
TZNAME:CDT
DTSTART:20200308T080000
END:DAYLIGHT
BEGIN:STANDARD
TZOFFSETFROM:-0500
TZOFFSETTO:-0600
TZNAME:CST
DTSTART:20201101T070000
END:STANDARD
BEGIN:DAYLIGHT
TZOFFSETFROM:-0600
TZOFFSETTO:-0500
TZNAME:CDT
DTSTART:20210314T080000
END:DAYLIGHT
BEGIN:STANDARD
TZOFFSETFROM:-0500
TZOFFSETTO:-0600
TZNAME:CST
DTSTART:20211107T070000
END:STANDARD
END:VTIMEZONE
BEGIN:VEVENT
DTSTART;TZID=America/Chicago:20201203T193000
DTEND;TZID=America/Chicago:20201203T213000
DTSTAMP:20260422T224654
CREATED:20201125T184156Z
LAST-MODIFIED:20201125T195426Z
UID:3876-1607023800-1607031000@gardenphoto.org
SUMMARY:Member Showcase/Holiday Party
DESCRIPTION:Our December 3rd Member Showcase/ (online) Holiday Party is set! You will hear short talks from 6 of your fellow members\, who will show images\, discuss techniques\, and explain vision! They are:\n\n\nBarbara Dunn: Chasing the Northern Lights in Norway\nCarlos Cardona: Getting started in Film photography (and why?)\nDoug Bank: 7 Days in Svalbard\nPaul Cherner: Street Photography\nDon Dedonato: Autumn Color in Vermont\nLaura Dudnik: Chefchaouen: Morocco in Blue\n\nDuring these we invite you to eat\, drink and be merry at a Zoom Holiday party (because this is all we get in 2020)\, but don’t spill Salsa on your keyboard or it will only type in Spanish! 😉\n\n\nTopic: Garden Photo Program-Member Showcase/Holiday Party\nTime: Dec 3\, 2020 07:15 PM Central Time (US and Canada)\nJoin Zoom Meeting\nhttps://zoom.us/j/92481108422
URL:https://gardenphoto.org/event/member-showcase-holiday-party/
LOCATION:Zoom
END:VEVENT
BEGIN:VEVENT
DTSTART;VALUE=DATE:20201126
DTEND;VALUE=DATE:20201127
DTSTAMP:20260422T224654
CREATED:20201124T231515Z
LAST-MODIFIED:20201124T231636Z
UID:3872-1606348800-1606435199@gardenphoto.org
SUMMARY:Thanksgiving
DESCRIPTION:A day for giving thanks!
URL:https://gardenphoto.org/event/thanksgiving/
END:VEVENT
END:VCALENDAR